BEGIN:VCALENDAR
VERSION:2.0
PRODID:-//Tukios.com/
BEGIN:VEVENT
UID:33e0b0bd-54e2-4129-bc40-d3b28069e78e@www.lackeyandsonsfuneralhome.com
DTSTAMP:20260422T012307Z
DTSTART:20260502T150000Z
DTEND:20260502T160000Z
SUMMARY:Memorial Service
DESCRIPTION:
URL:https://www.lackeyandsonsfuneralhome.com/obituaries/michael-worthans-jr
LOCATION:Praise Temple 303 Fincher Road  Covington GA 30016
GEO:33.4390329;-83.855748
END:VEVENT
END:VCALENDAR