BEGIN:VCALENDAR
VERSION:2.0
PRODID:-//Tukios.com/
BEGIN:VEVENT
UID:515bad1e-3c55-40af-b21f-d9eb078d4993@www.lackeyandsonsfuneralhome.com
DTSTAMP:20260422T012848Z
DTSTART:20260425T150000Z
DTEND:20260425T160000Z
SUMMARY:Celebration of Life
DESCRIPTION:
URL:https://www.lackeyandsonsfuneralhome.com/obituaries/janie-davis
LOCATION:Rock Chapel United Methodist 1994 Stephenson Rd  Lithonia GA 
	30058
GEO:33.757756;-84.0779611
END:VEVENT
END:VCALENDAR