BEGIN:VCALENDAR
VERSION:2.0
PRODID:-//Tukios.com/
BEGIN:VEVENT
UID:965bf8b7-e960-4b9f-9ca9-0622f010bce1@www.lackeyandsonsfuneralhome.com
DTSTAMP:20260422T012945Z
DTSTART:20260424T170000Z
DTEND:20260424T220000Z
SUMMARY:Visitation
DESCRIPTION:
URL:https://www.lackeyandsonsfuneralhome.com/obituaries/janie-davis
LOCATION: 1163 Reynolds Street SW  Covington GA 30014
GEO:33.5950809;-83.8614256
END:VEVENT
END:VCALENDAR