BEGIN:VCALENDAR
VERSION:2.0
PRODID:-//Tukios.com/
BEGIN:VEVENT
UID:a7ce7330-842c-4c40-9389-faaf6a6b9151@www.lackeyandsonsfuneralhome.com
DTSTAMP:20260422T012710Z
DTSTART:20260426T180000Z
DTEND:20260426T190000Z
SUMMARY:Funeral Service
DESCRIPTION:
URL:https://www.lackeyandsonsfuneralhome.com/obituaries/eva-henderson
LOCATION: 1214 Emory Street  Oxford GA 30054
GEO:33.6282744;-83.8674034
END:VEVENT
END:VCALENDAR