BEGIN:VCALENDAR
VERSION:2.0
PRODID:-//Tukios.com/
BEGIN:VEVENT
UID:515fb7b2-8114-4643-b4e0-36f098cca674@www.lackeyandsonsfuneralhome.com
DTSTAMP:20260422T012944Z
DTSTART:20260425T170000Z
DTEND:20260425T220000Z
SUMMARY:Visitation
DESCRIPTION:
URL:https://www.lackeyandsonsfuneralhome.com/obituaries/eva-henderson
LOCATION: 1163 Reynolds Street SW  Covington GA 30014
GEO:33.5950809;-83.8614256
END:VEVENT
END:VCALENDAR